BEGIN:VCALENDAR
PRODID:-//AT Content Types//AT Event//EN
VERSION:2.0
METHOD:PUBLISH
BEGIN:VEVENT
DTSTAMP:20260422T082857Z
CREATED:20201022T141824Z
UID:ATEvent-b0e8ea65bb7345c4b2a38e180b873a1a
LAST-MODIFIED:20201022T144032Z
SUMMARY:Sessione europea 2020 dell'Assemblea legislativa
DTSTART:20201028T090000Z
DTEND:20201028T123000Z
CLASS:PUBLIC
END:VEVENT
END:VCALENDAR
