BEGIN:VCALENDAR
PRODID:-//AT Content Types//AT Event//EN
VERSION:2.0
METHOD:PUBLISH
BEGIN:VEVENT
DTSTAMP:20260421T083640Z
CREATED:20250722T102716Z
UID:ATEvent-ea21e36ac7284c4c96f11a3b09727cba
LAST-MODIFIED:20250722T102745Z
SUMMARY:Cerimonia eccidio delle Officine Reggiane
DTSTART:20250728T153000Z
DTEND:20250728T173000Z
DESCRIPTION:Commemorazione dell'82°Anniversario
LOCATION:Reggio Emilia
CLASS:PUBLIC
END:VEVENT
END:VCALENDAR
