BEGIN:VCALENDAR
PRODID:-//AT Content Types//AT Event//EN
VERSION:2.0
METHOD:PUBLISH
BEGIN:VEVENT
DTSTAMP:20260420T101402Z
CREATED:20250519T080732Z
UID:ATEvent-982346097eea4f1d8d3075f42850f91b
LAST-MODIFIED:20250519T080918Z
SUMMARY:Stati Generali dell'infanzia e dell'adolescenza - Inaugurazione mostra “Star bene con se stessi”
DTSTART:20250522T143000Z
DTEND:20250606T160000Z
LOCATION:Sala Polivalente Guido Fanti - Viale Aldo Moro 50 (BO)
CLASS:PUBLIC
END:VEVENT
END:VCALENDAR
