BEGIN:VCALENDAR
PRODID:-//AT Content Types//AT Event//EN
VERSION:2.0
METHOD:PUBLISH
BEGIN:VEVENT
DTSTAMP:20260420T101407Z
CREATED:20241120T112358Z
UID:ATEvent-ccb26d231d20426b827d956d87924540
LAST-MODIFIED:20241120T112406Z
SUMMARY:Presentazione XII Rapporto sulla Coesione Sociale nella provincia di Reggio Emilia
DTSTART:20241120T133000Z
DTEND:20241120T163000Z
DESCRIPTION:Presentazione XII Rapporto sulla Coesione Sociale nella pr
 ovincia di Reggio Emilia
LOCATION:Piazza della Vittoria 3 - Reggio Emilia
CLASS:PUBLIC
END:VEVENT
END:VCALENDAR
