BEGIN:VCALENDAR
PRODID:-//AT Content Types//AT Event//EN
VERSION:1.0
BEGIN:VEVENT
DTSTART:20240613T123000Z
DTEND:20240613T133000Z
DCREATED:20240610T101917Z
UID:ATEvent-830b5c4cd4a24ba5b1cc9a588ce1c31e
SEQUENCE:0
LAST-MODIFIED:20240610T101932Z
SUMMARY:Presentazione relazione attività 2023 in Commissione parità
DESCRIPTION:Presentazione in Commissione per la Parità e per i diritt
 i delle persone della Relazione sulle attività svolte nell'anno 2023
LOCATION:Viale Aldo Moro\, 50 - Bologna
PRIORITY:3
TRANSP:0
END:VEVENT
END:VCALENDAR
