BEGIN:VCALENDAR
PRODID:-//AT Content Types//AT Event//EN
VERSION:2.0
METHOD:PUBLISH
BEGIN:VEVENT
DTSTAMP:20260422T082056Z
CREATED:20250311T172554Z
UID:ATEvent-0b23e17bda5e4d6c8efd733439021742
LAST-MODIFIED:20250311T172632Z
SUMMARY:Oltre il risultato
DTSTART:20250322T150000Z
DTEND:20250322T173000Z
DESCRIPTION:Tavola rotonda sul tema i ragazzi e lo sport: crescere\, m
 aturare\, realizzarsi
LOCATION:Centro Culturale Piazza Repubblica Cattolica (RN)
CLASS:PUBLIC
END:VEVENT
END:VCALENDAR
