BEGIN:VCALENDAR
PRODID:-//AT Content Types//AT Event//EN
VERSION:1.0
BEGIN:VEVENT
DTSTART:20250226T090000Z
DTEND:20250226T110000Z
DCREATED:20250226T111235Z
UID:ATEvent-07d71dc501b64116a1c5e53d3ee1ef5e
SEQUENCE:0
LAST-MODIFIED:20250226T111254Z
SUMMARY:Linee guida per il contrasto del social "sex roulette"
DESCRIPTION:Incontro nazionale con i Garanti regionali e l'ass. Spazio
  Neutro per la definizione di linee guide che contrastino il fenomeno 
 della "sex roulette" per le persone di minore età
PRIORITY:3
TRANSP:0
END:VEVENT
END:VCALENDAR
