BEGIN:VCALENDAR
PRODID:-//AT Content Types//AT Event//EN
VERSION:1.0
BEGIN:VEVENT
DTSTART:20250124T100000Z
DTEND:20250124T110000Z
DCREATED:20250107T104715Z
UID:ATEvent-0f8e847b5e9b455da2265b6056761ff7
SEQUENCE:0
LAST-MODIFIED:20250107T104723Z
SUMMARY:Incontro in Assemblea con la Scuola Primaria Lugli di Carpi (MO)
DESCRIPTION:Dialogo con i bambini e le bambine della Scuola Primaria L
 ugli di Carpi nell'ambito del progetto Porte Aperte in Assemblea
PRIORITY:3
TRANSP:0
END:VEVENT
END:VCALENDAR
