BEGIN:VCALENDAR
PRODID:-//AT Content Types//AT Event//EN
VERSION:2.0
METHOD:PUBLISH
BEGIN:VEVENT
DTSTAMP:20260423T132228Z
CREATED:20260303T090751Z
UID:ATEvent-397b131045634a06abd10034343b6b45
LAST-MODIFIED:20260317T081644Z
SUMMARY:Incontro di lavoro con il Gruppo  nazionale nidi infanzia ER  e l' Assessorato al  Welfare\, Terzo settore\, Politiche per l'infanzia  della Regione Emilia-Romagna
DTSTART:20260316T140000Z
DTEND:20260316T160000Z
LOCATION:Viale Aldo Moro\, 50 (ex Aula Manzi)
CLASS:PUBLIC
END:VEVENT
END:VCALENDAR
