BEGIN:VCALENDAR
PRODID:-//AT Content Types//AT Event//EN
VERSION:2.0
METHOD:PUBLISH
BEGIN:VEVENT
DTSTAMP:20260422T083338Z
CREATED:20240917T121346Z
UID:ATEvent-920ad60fb1e2430c9ba4314879efd078
LAST-MODIFIED:20240917T121403Z
SUMMARY:Generazioni digitali: Persone di minore età\, rete e cittadinanza globale
DTSTART:20240927T183000Z
DTEND:20240927T193000Z
DESCRIPTION:Incontro organizzato dal Dipartimento di Giurisprudenza de
 ll'Università di Modena e Reggio Emilia nell'ambito della Notte Europ
 ea della Ricerca 2024,
LOCATION:Via San Geminiano\, 3 – Modena
CLASS:PUBLIC
END:VEVENT
END:VCALENDAR
