BEGIN:VCALENDAR
PRODID:-//AT Content Types//AT Event//EN
VERSION:2.0
METHOD:PUBLISH
BEGIN:VEVENT
DTSTAMP:20260423T085531Z
CREATED:20260415T082306Z
UID:ATEvent-21cf8b3677c541c69a6e2475378b7a39
LAST-MODIFIED:20260415T082427Z
SUMMARY:Cerimonia inaugurale dello spazio "DesTEENazione "
DTSTART:20260424T140000Z
DTEND:20260424T150000Z
LOCATION:Via Martiri della Bettola 51 - Reggio Emilia
CLASS:PUBLIC
END:VEVENT
END:VCALENDAR
