BEGIN:VCALENDAR
PRODID:-//AT Content Types//AT Event//EN
VERSION:2.0
METHOD:PUBLISH
BEGIN:VEVENT
DTSTAMP:20260423T083451Z
CREATED:20251223T113711Z
UID:ATEvent-4fe4177d661e403b8511fcc356c6ce81
LAST-MODIFIED:20251223T113835Z
SUMMARY:Cerimonia del 229° anniversario della nascita del Primo Tricolore
DTSTART:20260107T101500Z
DTEND:20260107T120000Z
LOCATION:Teatro Municipale Romolo Valli di Reggio Emilia
CLASS:PUBLIC
END:VEVENT
END:VCALENDAR
