BEGIN:VCALENDAR
PRODID:-//AT Content Types//AT Event//EN
VERSION:1.0
BEGIN:VEVENT
DTSTART:20240604T133000Z
DTEND:20240604T153000Z
DCREATED:20240605T073841Z
UID:ATEvent-a6b15c28309943338db88085bba8540a
SEQUENCE:0
LAST-MODIFIED:20240605T073906Z
SUMMARY:Assemblea dei ragazzi e delle ragazze in presenza
DESCRIPTION:Riunione in presenza dell'Assemblea dei ragazzi e delle ra
 gazze a sostegno del Garante per l'infanzia e l'adolescenza
LOCATION:Viale Aldo Moro\, 50 - Bologna
PRIORITY:3
TRANSP:0
END:VEVENT
END:VCALENDAR
