BEGIN:VCALENDAR
PRODID:-//AT Content Types//AT Event//EN
VERSION:2.0
METHOD:PUBLISH
BEGIN:VEVENT
DTSTAMP:20260422T083045Z
CREATED:20241108T103048Z
UID:ATEvent-5dc911631f31406ab9c94421639fd07e
LAST-MODIFIED:20241108T103053Z
SUMMARY:Adolescenti in reel-azione
DTSTART:20241120T080000Z
DTEND:20241120T123000Z
DESCRIPTION:Un confronto tra adolescenti e adulti su cosa avvicina e c
 osa allontana nella relazione\, in occasione della giornata internazio
 nale dei diritti dell’infanzia e dell’adolescenza
LOCATION:Sala 20 maggio\, viale della Fiera 8\, Bologna
CLASS:PUBLIC
END:VEVENT
END:VCALENDAR
