BEGIN:VCALENDAR
PRODID:-//AT Content Types//AT Event//EN
VERSION:2.0
METHOD:PUBLISH
BEGIN:VEVENT
DTSTAMP:20260420T100215Z
CREATED:20230111T103001Z
UID:ATEvent-c0d35b7d2c8f49c79e51ea67b4d7c16b
LAST-MODIFIED:20230510T094830Z
SUMMARY:PIACENZA: visita alla Casa circondariale e colloqui con i detenuti
DTSTART:20230123T083000Z
DTEND:20230123T113000Z
DESCRIPTION:Visita alla Casa circondariale e colloqui con i detenuti c
 he ne hanno fatto richiesta
LOCATION:Str. delle Novate\, 65 - Piacenza
CLASS:PUBLIC
END:VEVENT
END:VCALENDAR
