BEGIN:VCALENDAR
PRODID:-//AT Content Types//AT Event//EN
VERSION:2.0
METHOD:PUBLISH
BEGIN:VEVENT
DTSTAMP:20260421T084219Z
CREATED:20230502T070719Z
UID:ATEvent-ac677f2793d540eea761dfb8bbd3cfde
LAST-MODIFIED:20230510T073451Z
SUMMARY:RIMINI: Visita alla Casa circondariale e colloqui
DTSTART:20230512T080000Z
DTEND:20230512T160000Z
DESCRIPTION:Visita alla Casa Circondariale e colloqui con i detenuti c
 he ne hanno fatto richiesta
LOCATION:Via Santa Cristina\, 19 - Rimini
CLASS:PUBLIC
END:VEVENT
END:VCALENDAR
