BEGIN:VCALENDAR
PRODID:-//AT Content Types//AT Event//EN
VERSION:2.0
METHOD:PUBLISH
BEGIN:VEVENT
DTSTAMP:20260421T084430Z
CREATED:20230511T130310Z
UID:ATEvent-67a143d14c13471faafb32b60e5dd729
LAST-MODIFIED:20230511T130329Z
SUMMARY:REGGIO EMILIA: Campagna Madri fuori
DTSTART:20230514T080000Z
DTEND:20230514T100000Z
DESCRIPTION:Il Garante regionale Roberto Cavalieri si unirà alla dele
 gazione di Consiglieri regionali Federico A. Amico\, Roberta Mori e An
 drea Costa nell’ambito della Campagna “Madri fuori” promossa dal
 la Società della Ragione
LOCATION:Via Settembrini 8 - Reggio Emilia
URL:https://www.societadellaragione.it/agenda/madri-fuori-in-emilia-romagna/
CLASS:PUBLIC
END:VEVENT
END:VCALENDAR
