BEGIN:VCALENDAR
PRODID:-//AT Content Types//AT Event//EN
VERSION:1.0
BEGIN:VEVENT
DTSTART:20221117T110000Z
DTEND:20221117T120000Z
DCREATED:20221116T093050Z
UID:ATEvent-9e4f539798354a07b0101d7100ac54c3
SEQUENCE:0
LAST-MODIFIED:20230510T093227Z
SUMMARY:BOLOGNA: programma di attività 2023\, presentazione in UP
LOCATION:Ufficio di Presidenza - Assemblea legislativa
PRIORITY:3
TRANSP:0
END:VEVENT
END:VCALENDAR
