BEGIN:VCALENDAR
PRODID:-//AT Content Types//AT Event//EN
VERSION:2.0
METHOD:PUBLISH
BEGIN:VEVENT
DTSTAMP:20260421T084547Z
CREATED:20240520T130121Z
UID:ATEvent-d5441566b4e7498bb87acba209403cee
LAST-MODIFIED:20240520T130132Z
SUMMARY:PIACENZA. Incontro con Coop. Orto Botanico per progetto accoglienza
DTSTART:20240522T110000Z
DTEND:20240522T130000Z
DESCRIPTION:Incontro con Coop. Orto Botanico per progetto accoglienza
LOCATION:Piacenza
CLASS:PUBLIC
END:VEVENT
END:VCALENDAR
