BEGIN:VCALENDAR
PRODID:-//AT Content Types//AT Event//EN
VERSION:2.0
METHOD:PUBLISH
BEGIN:VEVENT
DTSTAMP:20260421T084711Z
CREATED:20240521T131909Z
UID:ATEvent-b80ae97c34824a2eabbc9a39bcf0f39a
LAST-MODIFIED:20240521T131940Z
SUMMARY:BOLOGNA. Partecipazione al tavolo interistituzionale con PRAP e Sanità regionale
DTSTART:20240417T063000Z
DTEND:20240417T093000Z
DESCRIPTION:Partecipazione al tavolo interistituzionale con PRAP e San
 ità regionale
LOCATION:Bologna
CLASS:PUBLIC
END:VEVENT
END:VCALENDAR
