BEGIN:VCALENDAR
PRODID:-//AT Content Types//AT Event//EN
VERSION:2.0
METHOD:PUBLISH
BEGIN:VEVENT
DTSTAMP:20260423T083451Z
CREATED:20230515T080009Z
UID:ATEvent-a587115597b7490aa0e3e58e46294ac2
LAST-MODIFIED:20230522T105647Z
SUMMARY:BOLOGNA:  Incontro con Provveditore Amministrazione Penitenziaria
DTSTART:20230522T070000Z
DTEND:20230522T080000Z
DESCRIPTION:Incontro con Provveditore Regionale Amministrazione Penite
 nziaria
LOCATION:Viale Vicini\, 20 - Bologna
CLASS:PUBLIC
END:VEVENT
END:VCALENDAR
