BEGIN:VCALENDAR
PRODID:-//AT Content Types//AT Event//EN
VERSION:2.0
METHOD:PUBLISH
BEGIN:VEVENT
DTSTAMP:20260421T084703Z
CREATED:20240521T132041Z
UID:ATEvent-ec673c37db0442f088e5d50c770d3c21
LAST-MODIFIED:20240521T132506Z
SUMMARY:PARMA. Partecipazione alla visita formativa agli Istituti penitenziari
DTSTART:20240417T113000Z
DTEND:20240417T150000Z
DESCRIPTION:Partecipazione alla visita formativa agli Istituti peniten
 ziari
LOCATION:Strada Burla\, 59 - Parma
CLASS:PUBLIC
END:VEVENT
END:VCALENDAR
