BEGIN:VCALENDAR
PRODID:-//AT Content Types//AT Event//EN
VERSION:2.0
METHOD:PUBLISH
BEGIN:VEVENT
DTSTAMP:20260421T084710Z
CREATED:20240521T132906Z
UID:ATEvent-d51f075e5b36402bb985968e52980191
LAST-MODIFIED:20240521T132913Z
SUMMARY:PARMA. Incontro presso matricola degli Istituti penitenziari di Parma
DTSTART:20240430T080000Z
DTEND:20240430T090000Z
DESCRIPTION:Incontro presso matricola degli Istituti penitenziari di P
 arma
LOCATION:Strada Burla\, 59 - Parma
CLASS:PUBLIC
END:VEVENT
END:VCALENDAR
