BEGIN:VCALENDAR
PRODID:-//AT Content Types//AT Event//EN
VERSION:1.0
BEGIN:VEVENT
DTSTART:20240410T070000Z
DTEND:20240410T083000Z
DCREATED:20240521T121420Z
UID:ATEvent-8a963cfad4e348b588e132f5001756fe
SEQUENCE:0
LAST-MODIFIED:20240521T121429Z
SUMMARY:PARMA. Incontro con Presidente Commissione Welfare del Comune di Parma
DESCRIPTION:Incontro con Presidente Commissione Welfare del Comune di 
 Parma
LOCATION:Parma
PRIORITY:3
TRANSP:0
END:VEVENT
END:VCALENDAR
