BEGIN:VCALENDAR
PRODID:-//AT Content Types//AT Event//EN
VERSION:1.0
BEGIN:VEVENT
DTSTART:20240408T130000Z
DTEND:20240408T160000Z
DCREATED:20240521T112900Z
UID:ATEvent-f432c7b811c341549893fa5c3f141988
SEQUENCE:0
LAST-MODIFIED:20240521T112907Z
SUMMARY:PARMA. Incontro Conferenza garanti territoriali
DESCRIPTION:Incontro Conferenza garanti territoriali
LOCATION:Parma
PRIORITY:3
TRANSP:0
END:VEVENT
END:VCALENDAR
