BEGIN:VCALENDAR
PRODID:-//AT Content Types//AT Event//EN
VERSION:1.0
BEGIN:VEVENT
DTSTART:20240405T140000Z
DTEND:20240405T160000Z
DCREATED:20240521T112704Z
UID:ATEvent-579272bc7c4643baa64c5975a0840317
SEQUENCE:0
LAST-MODIFIED:20240521T112738Z
SUMMARY:ONLINE. Incontro Conferenza garanti territoriali
DESCRIPTION:Incontro Conferenza garanti territoriali
LOCATION:Online
PRIORITY:3
TRANSP:0
END:VEVENT
END:VCALENDAR
