BEGIN:VCALENDAR
PRODID:-//AT Content Types//AT Event//EN
VERSION:1.0
BEGIN:VEVENT
DTSTART:20240523T113000Z
DTEND:20240523T150000Z
DCREATED:20240520T130407Z
UID:ATEvent-f0a1e795f5dc4464b432b945eb0a3ef5
SEQUENCE:0
LAST-MODIFIED:20240520T130415Z
SUMMARY:MODENA. Visita formativa della Casa circondariale
DESCRIPTION:Partecipazione alla visita formativa della Casa circondari
 ale
LOCATION:Via Sant'Anna - Modena
PRIORITY:3
TRANSP:0
END:VEVENT
END:VCALENDAR
