BEGIN:VCALENDAR
PRODID:-//AT Content Types//AT Event//EN
VERSION:1.0
BEGIN:VEVENT
DTSTART:20240411T073000Z
DTEND:20240411T150000Z
DCREATED:20240521T121646Z
UID:ATEvent-a7608565233b487797c181eea37ef0ba
SEQUENCE:0
LAST-MODIFIED:20240521T121656Z
SUMMARY:MODENA. Convegno “Il trattamento in carcere delle persone autrici di violenza di genere e di reati sessuali\, tra diritti\, buone prassi e prospettive future”
DESCRIPTION:Partecipazione al convegno “Il trattamento in carcere de
 lle persone autrici di violenza di genere e di reati sessuali\, tra di
 ritti\, buone prassi e prospettive future”
LOCATION:Modena
PRIORITY:3
TRANSP:0
END:VEVENT
END:VCALENDAR
