BEGIN:VCALENDAR
PRODID:-//AT Content Types//AT Event//EN
VERSION:1.0
BEGIN:VEVENT
DTSTART:20240523T090000Z
DTEND:20240523T110000Z
DCREATED:20240520T130239Z
UID:ATEvent-13aa7f99540c431a9eb230e2561ca497
SEQUENCE:0
LAST-MODIFIED:20240520T130256Z
SUMMARY:MODENA. Colloqui con detenuti
DESCRIPTION:Colloqui con detenuti
LOCATION:Via Sant'Anna - Modena
PRIORITY:3
TRANSP:0
END:VEVENT
END:VCALENDAR
