BEGIN:VCALENDAR
PRODID:-//AT Content Types//AT Event//EN
VERSION:2.0
METHOD:PUBLISH
BEGIN:VEVENT
DTSTAMP:20260422T083627Z
CREATED:20230216T130428Z
UID:ATEvent-2da9f5772b5f41b98a7434e09daf99c4
LAST-MODIFIED:20230510T092750Z
SUMMARY:PARMA: lezione presso la Scuola della Polizia Penitenziaria
DTSTART:20230217T083000Z
DTEND:20230217T113000Z
DESCRIPTION:Lezione al corso per sovraintendenti
LOCATION:Scuola della Polizia Penitenziaria - Parma
CLASS:PUBLIC
END:VEVENT
END:VCALENDAR
