BEGIN:VCALENDAR
PRODID:-//AT Content Types//AT Event//EN
VERSION:1.0
BEGIN:VEVENT
DTSTART:20221128T083000Z
DTEND:20221128T100000Z
DCREATED:20230130T112936Z
UID:ATEvent-47f0a23a8f7c470687cc86f204da21e5
SEQUENCE:0
LAST-MODIFIED:20230510T095810Z
SUMMARY:ONLINE: incontro con Movimento Identità Trans
DESCRIPTION:Incontro di confronto con il MIT sulla sezione transessual
 i degli Istituti penali di Reggio Emilia.
LOCATION:Online
PRIORITY:3
TRANSP:0
END:VEVENT
END:VCALENDAR
