BEGIN:VCALENDAR
PRODID:-//AT Content Types//AT Event//EN
VERSION:1.0
BEGIN:VEVENT
DTSTART:20221125T083000Z
DTEND:20221125T103000Z
DCREATED:20221107T091925Z
UID:ATEvent-3e0b7c36602d4c7c95ee7fd5c43056e7
SEQUENCE:0
LAST-MODIFIED:20230510T100122Z
SUMMARY:PARMA: incontro con lo Sportello detenuti dell’Associazione Rete Carcere
DESCRIPTION:Incontro con lo Sportello detenuti dell’Associazione Ret
 e Carcere a Parma
LOCATION:Parma
PRIORITY:3
TRANSP:0
END:VEVENT
END:VCALENDAR
