BEGIN:VCALENDAR
PRODID:-//AT Content Types//AT Event//EN
VERSION:2.0
METHOD:PUBLISH
BEGIN:VEVENT
DTSTAMP:20260422T083444Z
CREATED:20230130T114007Z
UID:ATEvent-03e0775ff2a44c389ed4e2f5363845d2
LAST-MODIFIED:20230510T093053Z
SUMMARY:MODENA: Giulio Cesare\, spettacolo teatrale in Carcere
DTSTART:20230203T143000Z
DTEND:20230203T170000Z
LOCATION:Casa circondariale Modena
CLASS:PUBLIC
END:VEVENT
END:VCALENDAR
