BEGIN:VCALENDAR
PRODID:-//AT Content Types//AT Event//EN
VERSION:2.0
METHOD:PUBLISH
BEGIN:VEVENT
DTSTAMP:20260419T124936Z
CREATED:20230213T144700Z
UID:ATEvent-ad0f219ff34f408e9006e60f460dfc54
LAST-MODIFIED:20230510T092544Z
SUMMARY:PARMA: FUORI! Equipaggiamento per persone in uscita dal carcere
DTSTART:20230222T100000Z
DTEND:20230222T110000Z
DESCRIPTION:Conferenza stampa di presentazione della Guida
LOCATION:Antica Farmacia San Filippo Neri – vicolo San Tiburzio\, 5 (Parma)
CLASS:PUBLIC
END:VEVENT
END:VCALENDAR
