BEGIN:VCALENDAR
PRODID:-//AT Content Types//AT Event//EN
VERSION:2.0
METHOD:PUBLISH
BEGIN:VEVENT
DTSTAMP:20260420T101011Z
CREATED:20230321T104030Z
UID:ATEvent-15e754634a5647faa0ef3ef6335cbc37
LAST-MODIFIED:20230510T090428Z
SUMMARY:PARMA: festa annuale Polizia penitenziaria
DTSTART:20230322T090000Z
DTEND:20230322T110000Z
DESCRIPTION:206° Annuale del Corpo di Polizia penitenziaria
LOCATION:Scuola della Polizia Penitenziaria - Parma
CLASS:PUBLIC
END:VEVENT
END:VCALENDAR
