BEGIN:VCALENDAR
PRODID:-//AT Content Types//AT Event//EN
VERSION:2.0
METHOD:PUBLISH
BEGIN:VEVENT
DTSTAMP:20260424T120820Z
CREATED:20221020T124204Z
UID:ATEvent-9d0ec1ce114541218bede60773cacd52
LAST-MODIFIED:20230510T093545Z
SUMMARY:RAVENNA: visita alla Casa circondariale e colloqui
DTSTART:20221121T083000Z
DTEND:20221121T113000Z
LOCATION:Casa Circondariale Ravenna
CLASS:PUBLIC
END:VEVENT
END:VCALENDAR
