BEGIN:VCALENDAR
PRODID:-//AT Content Types//AT Event//EN
VERSION:2.0
METHOD:PUBLISH
BEGIN:VEVENT
DTSTAMP:20260423T093132Z
CREATED:20230913T071045Z
UID:ATEvent-8ef696e93bc347609a62f8c0acd75d3d
LAST-MODIFIED:20230913T071158Z
SUMMARY:PARMA. Visita alla Casa circondariale e colloqui
DTSTART:20230912T080000Z
DTEND:20230912T130000Z
DESCRIPTION:Visita alla Casa circondariale e colloqui
LOCATION:Strada Burla\, 59 - Parma
CLASS:PUBLIC
END:VEVENT
END:VCALENDAR
