BEGIN:VCALENDAR
PRODID:-//AT Content Types//AT Event//EN
VERSION:2.0
METHOD:PUBLISH
BEGIN:VEVENT
DTSTAMP:20260422T083340Z
CREATED:20221107T092305Z
UID:ATEvent-6446edd6ada2448babbda59096235673
LAST-MODIFIED:20230510T095639Z
SUMMARY:CASTELFRANCO EMILIA: Conoscere il carcere per progettare il volontariato
DTSTART:20221212T120000Z
DTEND:20221212T160000Z
DESCRIPTION:Visita diretta alla Casa di reclusione di Castelfranco Emi
 lia
LOCATION:Casa reclusione Castelfranco Emilia
URL:https://forms.office.com/pages/responsepage.aspx?id=yNQTuiD2fEqq1haBox1Qqg3CP_C0txxDkhcHAYRd5CtURVBKRllQTVRaOVIwWEZZRFIxU0hVSVhLRiQlQCN0PWcu
CLASS:PUBLIC
END:VEVENT
END:VCALENDAR
