BEGIN:VCALENDAR
PRODID:-//AT Content Types//AT Event//EN
VERSION:2.0
METHOD:PUBLISH
BEGIN:VEVENT
DTSTAMP:20260420T101526Z
CREATED:20240521T132750Z
UID:ATEvent-9b3450a1f1f9403b8b0c4e715b15644a
LAST-MODIFIED:20240521T132800Z
SUMMARY:BOLOGNA. Partecipazione alla formazione della Sanità regionale e PRAP sulla prevenzione suicidaria
DTSTART:20240424T070000Z
DTEND:20240424T110000Z
DESCRIPTION:Partecipazione alla formazione della Sanità regionale e P
 RAP sulla prevenzione suicidaria
LOCATION:Bologna
CLASS:PUBLIC
END:VEVENT
END:VCALENDAR
