BEGIN:VCALENDAR
PRODID:-//AT Content Types//AT Event//EN
VERSION:1.0
BEGIN:VEVENT
DTSTART:20230517T113000Z
DTEND:20230517T133000Z
DCREATED:20230515T075127Z
UID:ATEvent-3a7abe5d0f184100b82df9b9b1abb989
SEQUENCE:0
LAST-MODIFIED:20230515T075223Z
SUMMARY:BOLOGNA: incontro presso il PRAP con referenti gestione detenuti
DESCRIPTION:Incontro presso il Provveditorato Regionale dell'Amministr
 azione Penitenziaria con i referenti della gestione dei detenuti
LOCATION:Viale Vicini 20 - Bologna
PRIORITY:3
TRANSP:0
END:VEVENT
END:VCALENDAR
