BEGIN:VCALENDAR
PRODID:-//AT Content Types//AT Event//EN
VERSION:1.0
BEGIN:VEVENT
DTSTART:20131118T200000Z
DTEND:20131118T230000Z
DCREATED:20131118T095507Z
UID:ATEvent-a36c5449ac3f43dbbdfe2f78a3c82dd2
SEQUENCE:0
LAST-MODIFIED:20131118T095621Z
SUMMARY:"Open Heart"
DESCRIPTION:Proiezione gratuita del documentario "Open Heart" a cura d
 ell'associazione Emergency di Bologna
LOCATION:Sala Cervi - Cineteca\, via Riva di Reno 72\, Bologna
PRIORITY:3
TRANSP:0
END:VEVENT
END:VCALENDAR
