BEGIN:VCALENDAR
PRODID:-//AT Content Types//AT Event//EN
VERSION:2.0
METHOD:PUBLISH
BEGIN:VEVENT
DTSTAMP:20260421T124756Z
CREATED:20131129T142153Z
UID:ATEvent-906e2cf6b0274db89697422fe20cca9d
LAST-MODIFIED:20131129T142216Z
SUMMARY:"Cities for life"
DTSTART:20131130T160000Z
DTEND:20131130T190000Z
DESCRIPTION:Evento commemorativo nell'ambito della campagna "Cities fo
 r life" della Comunità di Sant'Egidio
LOCATION:Sacrario della Ghirlandina\, Piazza Torre\, Modena
CLASS:PUBLIC
END:VEVENT
END:VCALENDAR
