BEGIN:VCALENDAR
PRODID:-//AT Content Types//AT Event//EN
VERSION:1.0
BEGIN:VEVENT
DTSTART:20131201T173000Z
DTEND:20131201T200000Z
DCREATED:20131126T153822Z
UID:ATEvent-c9c0b717aa0e46778e8eca2a38948867
SEQUENCE:0
LAST-MODIFIED:20131126T153827Z
SUMMARY:"What Woman Do!"
DESCRIPTION:Presentazione del nuovo progetto "What Woman Do!" a sosteg
 no delle donne Maasai in Kenya a cura de La Nostra Africa Onlus.
LOCATION:Libreria Modo Infoshop\, via Mascarella 24/B\, Bologna
PRIORITY:3
TRANSP:0
END:VEVENT
END:VCALENDAR
