BEGIN:VCALENDAR
PRODID:-//AT Content Types//AT Event//EN
VERSION:1.0
BEGIN:VEVENT
DTSTART:20131211T153000Z
DTEND:20131211T180000Z
DCREATED:20131209T110431Z
UID:ATEvent-38495d42f373433990ebcf74a7d59544
SEQUENCE:0
LAST-MODIFIED:20131209T110439Z
SUMMARY:"Volti e maschere della pena- OPG e carcere duro\, muri della pena e giustizia riparativa”
DESCRIPTION:Iniziativa della Garante regionale per le persone private 
 di libertà personale per presentare il volume a cura di Andrea Pugiot
 to e Franco Corleone.
LOCATION:Biblioteca dell’Assemblea legislativa\, viale A. Moro 32\, Bologna
PRIORITY:3
TRANSP:0
END:VEVENT
END:VCALENDAR
