BEGIN:VCALENDAR
PRODID:-//AT Content Types//AT Event//EN
VERSION:2.0
METHOD:PUBLISH
BEGIN:VEVENT
DTSTAMP:20260423T083131Z
CREATED:20131216T135430Z
UID:ATEvent-680dadb933124b84b7af4eb8bb67edf0
LAST-MODIFIED:20131216T135455Z
SUMMARY:"Sweet Gospel Choir Mama Singers"
DTSTART:20131216T200000Z
DTEND:20131216T230000Z
DESCRIPTION:Concerto gospel per celebrare il 65° anniversario della D
 ichiarazione Universale dei Diritti dell'Uomo
LOCATION:Teatro Apollo\, Via Mentana 8\, Forlì
CLASS:PUBLIC
END:VEVENT
END:VCALENDAR
