BEGIN:VCALENDAR
PRODID:-//AT Content Types//AT Event//EN
VERSION:1.0
BEGIN:VEVENT
DTSTART:20131217T200000Z
DTEND:20131217T220000Z
DCREATED:20131216T141119Z
UID:ATEvent-a3bc6a63f334463aaf6f9cb89b9a190e
SEQUENCE:0
LAST-MODIFIED:20131216T141211Z
SUMMARY:"Pussy Riot: a Punk Prayer"
DESCRIPTION:Proiezione del documentario sulle celebri attiviste russe 
 che hanno sfidato il potere di Putin\, a cura di Sala Bio
LOCATION:Cinema Odeon\, Via Mascarella 3\, Bologna
PRIORITY:3
TRANSP:0
END:VEVENT
END:VCALENDAR
