BEGIN:VCALENDAR
PRODID:-//AT Content Types//AT Event//EN
VERSION:1.0
BEGIN:VEVENT
DTSTART:20131214T083000Z
DTEND:20131214T120000Z
DCREATED:20131129T104916Z
UID:ATEvent-36d2688273a04dd886c98de1f5e7b4c1
SEQUENCE:0
LAST-MODIFIED:20131129T104943Z
SUMMARY:"Investire sulla diversità. Centri interculturali e nuove generazioni: Risorse in Emilia- Romagna"
DESCRIPTION:Convegno a cura del Centro Ri.E.Sco - CDLEI parte della Re
 te dei Centri Interculturali dell'Emilia Romagna
LOCATION:Cappella Farnese\, Piazza Maggiore 6\, Bologna
PRIORITY:3
TRANSP:0
END:VEVENT
END:VCALENDAR
