BEGIN:VCALENDAR
PRODID:-//AT Content Types//AT Event//EN
VERSION:2.0
METHOD:PUBLISH
BEGIN:VEVENT
DTSTAMP:20260423T082742Z
CREATED:20131216T134343Z
UID:ATEvent-e12c55f379dc4342b9c69af9e3fcb40b
LAST-MODIFIED:20131216T134517Z
SUMMARY:"Donne\, coraggio e giustizia"
DTSTART:20131218T170000Z
DTEND:20131218T190000Z
DESCRIPTION:Incontro a cura di Amnesty International
LOCATION:Aula ex-refettorio dell’Istituto per la storia e le memorie del ’900 Parri E.R.\, Via Sant'Isaia 18\, Bologna
CLASS:PUBLIC
END:VEVENT
END:VCALENDAR
