BEGIN:VCALENDAR
PRODID:-//AT Content Types//AT Event//EN
VERSION:1.0
BEGIN:VEVENT
DTSTART:20131202T170000Z
DTEND:20131208T190000Z
DCREATED:20131129T102212Z
UID:ATEvent-8824ea8be81949d09f0feaf18f23a74f
SEQUENCE:0
LAST-MODIFIED:20131129T102359Z
SUMMARY:"Diversamente...TE"
DESCRIPTION:Manifestazione per l'inclusione e l'autodeterminazione dei
  disabili
LOCATION:Ipercoop Centronova\, via Villanova 29\, Villanova di Castenaso (BO)
PRIORITY:3
TRANSP:0
END:VEVENT
END:VCALENDAR
