BEGIN:VCALENDAR
PRODID:-//AT Content Types//AT Event//EN
VERSION:1.0
BEGIN:VEVENT
DTSTART:20191003T163000Z
DTEND:20191003T193000Z
DCREATED:20221110T102908Z
UID:ATEvent-6a3d120e53d949eba2e9f9f24f8da96a
SEQUENCE:0
LAST-MODIFIED:20230222T132018Z
SUMMARY:ON THE MOVE - L’ECOSISTEMA IN MOVIMENTO
DESCRIPTION:Fa tappa a Barcellona il Tour internazionale per la promoz
 ione delle relazioni tra l’ecosistema della Ricerca e dell’Innovaz
 ione dell’Emilia Romagna e i suoi talenti all’estero
LOCATION:Passatge de Méndez Vigo\, 8\, 08009 Barcellona\, Spagna
PRIORITY:3
TRANSP:0
END:VEVENT
END:VCALENDAR
